BEGIN:VCALENDAR
VERSION:2.0
PRODID:-//TCG-VS - ECPv6.10.1.1//NONSGML v1.0//EN
CALSCALE:GREGORIAN
METHOD:PUBLISH
X-ORIGINAL-URL:https://tcg-vs.ch
X-WR-CALDESC:Évènements pour TCG-VS
REFRESH-INTERVAL;VALUE=DURATION:PT1H
X-Robots-Tag:noindex
X-PUBLISHED-TTL:PT1H
BEGIN:VTIMEZONE
TZID:Europe/Zurich
BEGIN:DAYLIGHT
TZOFFSETFROM:+0100
TZOFFSETTO:+0200
TZNAME:CEST
DTSTART:20220327T010000
END:DAYLIGHT
BEGIN:STANDARD
TZOFFSETFROM:+0200
TZOFFSETTO:+0100
TZNAME:CET
DTSTART:20221030T010000
END:STANDARD
END:VTIMEZONE
BEGIN:VEVENT
DTSTART;TZID=Europe/Zurich:20221105T100000
DTEND;TZID=Europe/Zurich:20221106T180000
DTSTAMP:20260419T180558
CREATED:20221011T195754Z
LAST-MODIFIED:20240501T080539Z
UID:31489-1667642400-1667757600@tcg-vs.ch
SUMMARY:TCG-VS @ De-To
DESCRIPTION:La TCG League Valaisanne sera présente à Destination Tokyo!\n  \nCette année l’association fera son grand retour à De-To pour vous y présenter les TCG! \nVous aurez la possibilité de faire du jeu libre\, des initiations\, ainsi que participer aux tournois Yu-Gi-Oh! et Weiss Schwarz. \nPensez à prendre vos decks et rencontrer des nouveaux joueurs! Des decks d’initiations Yu-Gi-Oh! – Weiss Schwarz – Pokémon seront à votre disposition. \nRetrouvez nous en zone Shirokane au stand D3. Informations de la convention et billetterie sur leur site officiel. \n			\n			\n				\n				\n				\n				\n			\n				\n				\n				\n				\n				\n				\n			\n				\n				\n				\n				\n			\n				\n				\n				\n				\n				\n				\n				\n				\n				\n				\n				Les activités\n			\n			\n				\n				\n				\n				\n			\n				\n				\n				\n				\n				\n				\n				\n				\n				\n				\n				\n					Samedi - tournoi Yu-Gi-Oh! Dimanche - tournoi Weiss SchwarzInitiations Pokémon TCG\n				\n				\n					\n				\n				\n				\n				\n				 \nDéroulement\nFormat: « Advanced Constructed »x rounds de 40 minutes en Best-of-three sans TopLe vainqueur recevra un playmat de son choix et des boosters seront distribués suivant le nombre de joueurs \nInscriptions\nCHF 10.00Chaque participant recevra 2 boosters10h00 – Ouverture des portes et inscriptions15h00 – Fin des inscriptions et début du tournoi \nRemarques\nPrendre avec soi carte Cossy\, calculatrice\, papier\, stylo\, désL’application Neuron est autorisée pour le calcul des LP et les traductions.Un groupe Whatsapp sera crée pour que une meilleure organisation. \n			\n				\n				\n				\n				\n				 \nDéroulement\nFormat: « Neo-Standard » + « Mix »x rounds de 30 minutes en Best-of-oneLe vainqueur recevra un playmat de son choix et des boosters seront distribués suivant le nombre de joueurs \nInscriptions\nCHF 10.00Chaque participant recevra 1 booster et 2 cartes promos parmi ceux disponibles.10h00 – Ouverture des portes et inscriptions14h00 – Fin des inscriptions et début du tournoi \nRemarques\nPrendre avec soi papier\, stylo\, dés.Les decks en japonais doivent avoir des traductions à portée de main.Un groupe Whatsapp sera crée pour que une meilleure organisation. \n			\n				\n				\n				\n				\n				 \nTout au long de l’évènement venez vous faire initier au jeu Pokémon TCG grâce à l’Académie de Combat. Apprenez pas à pas les ficelles de ce jeu de cartes! \nRéservez votre horaire directement sur notre stand! \n \n			\n				\n			\n			\n				\n				\n				\n				\n			\n				\n				\n				\n				\n				\n				\n				\n				\n				\n				\n				\n			\n				\n				\n				\n				\n				Photo: Destination Tokyo 2016
URL:https://tcg-vs.ch/events/deto-23/
LOCATION:Théâtre du Crochetan\, Avenue du Théâtre 9\, Monthey\, Valais\, 1870
CATEGORIES:Event,Pokémon,Weiss Schwarz,Yu-Gi-Oh!
ATTACH;FMTTYPE=image/png:https://tcg-vs.ch/wp-content/uploads/2022/10/deto22_event.png
ORGANIZER;CN="TCG-VS":MAILTO:info@tcg-vs.ch
END:VEVENT
BEGIN:VEVENT
DTSTART;TZID=Europe/Zurich:20221113T133000
DTEND;TZID=Europe/Zurich:20221113T163000
DTSTAMP:20260419T180559
CREATED:20220829T062929Z
LAST-MODIFIED:20221107T171635Z
UID:31482-1668346200-1668357000@tcg-vs.ch
SUMMARY:Weiss Schwarz - Monthly Shop november 2022
DESCRIPTION:Le « Monthly Shop » permet aux joueurs de s’affronter dans un tournoi local pour tenter de gagner des boosters. \n \nDéroulement\nFormat: « Neo-Standard » + « Mix »\n4 joueurs: Round-robin de 30 minutes en Best-of-one\n5 joueurs + : x rounds de 30 minutes en Best-of-one \nInscriptions\nCHF 15.00 / CHF 13.50 pour les membres\nChaque participant recevra 2 boosters et 1 carte promo parmi ceux disponibles.\n13h30 – Ouverture des portes et inscriptions\n14h00 – Fin des inscriptions \nRemarques\nPrendre avec soi protèges-cartes\, calculatrice\, papier\, stylo\, dés\nBoissons et snacks disponibles à très bon prix\nPlaces de parking à proximité \nDotation\n\n\n\n\nDès 6 joueurs\nDès 8 joueurs\nDès 12 joueurs et +\n\n\nPar participant\n2 boosters\n+ 1 carte promo\n2 boosters\n+ 1 carte promo\n2 boosters\n+ 1 carte promo\n\n\n1ère place\n3 boosters\n4 boosters\n5 boosters\n\n\n2ème place\n2 boosters\n2 boosters\n3 boosters\n\n\n3ème places\n1 booster\n1 booster\n2 boosters\n\n\n4ème places\n\n1 booster\n1 booster\n\n\n\n 
URL:https://tcg-vs.ch/events/ws-november22/
LOCATION:Centre Culturel\, Rue Centrale 26\, Conthey\, Valais\, 1964\, Suisse
CATEGORIES:Weiss Schwarz
ATTACH;FMTTYPE=image/png:https://tcg-vs.ch/wp-content/uploads/2022/08/WSnov_event.png
ORGANIZER;CN="Bushiroad":MAILTO:weiss-schwarz@tcg-vs.ch
END:VEVENT
END:VCALENDAR