BEGIN:VCALENDAR
VERSION:2.0
PRODID:-//TCG-VS - ECPv6.10.1.1//NONSGML v1.0//EN
CALSCALE:GREGORIAN
METHOD:PUBLISH
X-WR-CALNAME:TCG-VS
X-ORIGINAL-URL:https://tcg-vs.ch
X-WR-CALDESC:Évènements pour TCG-VS
REFRESH-INTERVAL;VALUE=DURATION:PT1H
X-Robots-Tag:noindex
X-PUBLISHED-TTL:PT1H
BEGIN:VTIMEZONE
TZID:Europe/Zurich
BEGIN:DAYLIGHT
TZOFFSETFROM:+0100
TZOFFSETTO:+0200
TZNAME:CEST
DTSTART:20220327T010000
END:DAYLIGHT
BEGIN:STANDARD
TZOFFSETFROM:+0200
TZOFFSETTO:+0100
TZNAME:CET
DTSTART:20221030T010000
END:STANDARD
END:VTIMEZONE
BEGIN:VEVENT
DTSTART;TZID=Europe/Zurich:20220402T133000
DTEND;TZID=Europe/Zurich:20220402T170000
DTSTAMP:20260420T122541
CREATED:20220303T101514Z
LAST-MODIFIED:20220303T102348Z
UID:30922-1648906200-1648918800@tcg-vs.ch
SUMMARY:Weiss Schwarz - local
DESCRIPTION:Déroulement\nFormat: « Neo-Standard » + « English Edition only »\n4 joueurs: Round-robin de 40 minutes en Best-of-one\n5 joueurs + : x rounds de 40 minutes en Best-of-one (max 4 rounds) \nInscriptions\nCHF 15.00 / CHF 13.50 pour les membres\nChaque participant recevra 2 boosters et 1 carte promo parmi ceux disponibles.\n13h30 – Ouverture des portes et inscriptions\n14h00 – Fin des inscriptions \nRemarques\nPrendre avec soi Player ID\, protèges-cartes\, calculatrice\, papier\, stylo\, dés\nBoissons et snacks disponibles à très bon prix\nPlaces de parking à proximité \nDotation\n*Infos à venir* \n 
URL:https://tcg-vs.ch/events/ws-ag22/
LOCATION:Centre Culturel\, Rue Centrale 26\, Conthey\, Valais\, 1964\, Suisse
CATEGORIES:Weiss Schwarz
ATTACH;FMTTYPE=image/png:https://tcg-vs.ch/wp-content/uploads/2020/11/logo_W_S.png
ORGANIZER;CN="Bushiroad":MAILTO:weiss-schwarz@tcg-vs.ch
END:VEVENT
END:VCALENDAR